Package: cytolib Version: 2.12.1 Command: rm -rf cytolib.buildbin-libdir && mkdir cytolib.buildbin-libdir && /Users/biocbuild/BBS/utils/build-universal.sh cytolib_2.12.1.tar.gz /Library/Frameworks/R.framework/Resources/bin/R cytolib.buildbin-libdir StartedAt: 2023-10-19 12:33:53 -0400 (Thu, 19 Oct 2023) EndedAt: 2023-10-19 12:39:55 -0400 (Thu, 19 Oct 2023) EllapsedTime: 362.6 seconds RetCode: 0 Status: OK PackageFile: cytolib_2.12.1.tgz PackageFileSize: 9.708 MiB