Package: cogeqc Version: 1.4.1 Command: rm -rf cogeqc.buildbin-libdir && mkdir cogeqc.buildbin-libdir && /Users/biocbuild/BBS/utils/build-universal.sh cogeqc_1.4.1.tar.gz /Library/Frameworks/R.framework/Resources/bin/R cogeqc.buildbin-libdir StartedAt: 2023-10-19 12:16:22 -0400 (Thu, 19 Oct 2023) EndedAt: 2023-10-19 12:17:01 -0400 (Thu, 19 Oct 2023) EllapsedTime: 39.4 seconds RetCode: 0 Status: OK PackageFile: cogeqc_1.4.1.tgz PackageFileSize: 3.112 MiB