Package: bumphunter Version: 1.42.0 Command: /Library/Frameworks/R.framework/Resources/bin/R CMD check --install=check:bumphunter.install-out.txt --library=/Library/Frameworks/R.framework/Resources/library --no-vignettes --timings bumphunter_1.42.0.tar.gz StartedAt: 2023-10-17 07:01:12 -0400 (Tue, 17 Oct 2023) EndedAt: 2023-10-17 07:13:57 -0400 (Tue, 17 Oct 2023) EllapsedTime: 765.4 seconds RetCode: 0 Status: OK CheckDir: bumphunter.Rcheck Warnings: 0