Package: VDJdive Version: 1.2.0 Command: rm -rf VDJdive.buildbin-libdir && mkdir VDJdive.buildbin-libdir && /Users/biocbuild/BBS/utils/build-universal.sh VDJdive_1.2.0.tar.gz /Library/Frameworks/R.framework/Resources/bin/R VDJdive.buildbin-libdir StartedAt: 2023-10-19 18:06:48 -0400 (Thu, 19 Oct 2023) EndedAt: 2023-10-19 18:07:45 -0400 (Thu, 19 Oct 2023) EllapsedTime: 57.5 seconds RetCode: 0 Status: OK PackageFile: VDJdive_1.2.0.tgz PackageFileSize: 808.2 KiB