Package: SPIA Version: 2.52.0 Command: rm -rf SPIA.buildbin-libdir && mkdir SPIA.buildbin-libdir && /Users/biocbuild/BBS/utils/build-universal.sh SPIA_2.52.0.tar.gz /Library/Frameworks/R.framework/Resources/bin/R SPIA.buildbin-libdir StartedAt: 2023-10-19 17:29:54 -0400 (Thu, 19 Oct 2023) EndedAt: 2023-10-19 17:30:09 -0400 (Thu, 19 Oct 2023) EllapsedTime: 14.4 seconds RetCode: 0 Status: OK PackageFile: SPIA_2.52.0.tgz PackageFileSize: 2.536 MiB