Package: PWMEnrich Version: 4.36.0 Command: /Library/Frameworks/R.framework/Resources/bin/R CMD check --install=check:PWMEnrich.install-out.txt --library=/Library/Frameworks/R.framework/Resources/library --no-vignettes --timings PWMEnrich_4.36.0.tar.gz StartedAt: 2023-10-18 16:32:21 -0400 (Wed, 18 Oct 2023) EndedAt: 2023-10-18 16:35:40 -0400 (Wed, 18 Oct 2023) EllapsedTime: 199.0 seconds RetCode: 0 Status: OK CheckDir: PWMEnrich.Rcheck Warnings: 0