Package: NPARC Version: 1.12.0 Command: /Library/Frameworks/R.framework/Resources/bin/R CMD build --keep-empty-dirs --no-resave-data NPARC StartedAt: 2023-10-16 12:38:23 -0400 (Mon, 16 Oct 2023) EndedAt: 2023-10-16 12:45:42 -0400 (Mon, 16 Oct 2023) EllapsedTime: 439.1 seconds RetCode: 0 Status: OK PackageFile: NPARC_1.12.0.tar.gz PackageFileSize: 2.223 MiB