Package: MultiAssayExperiment Version: 1.26.0 Command: /Library/Frameworks/R.framework/Resources/bin/R CMD check --install=check:MultiAssayExperiment.install-out.txt --library=/Library/Frameworks/R.framework/Resources/library --no-vignettes --timings MultiAssayExperiment_1.26.0.tar.gz StartedAt: 2023-10-18 10:14:59 -0400 (Wed, 18 Oct 2023) EndedAt: 2023-10-18 10:21:11 -0400 (Wed, 18 Oct 2023) EllapsedTime: 371.8 seconds RetCode: 0 Status: OK CheckDir: MultiAssayExperiment.Rcheck Warnings: 0