git_url: https://git.bioconductor.org/packages/MassArray git_branch: RELEASE_3_17 git_last_commit: c8548f2 git_last_commit_date: 2023-04-25 09:50:16 -0400 (Tue, 25 Apr 2023) Package: MassArray Version: 1.52.0 Maintainer: Reid F. Thompson MaintainerEmail: reid.thompson at gmail.com