Package: IRanges Version: 2.34.1 Command: /Library/Frameworks/R.framework/Resources/bin/R CMD build --keep-empty-dirs --no-resave-data IRanges StartedAt: 2023-10-16 07:08:55 -0400 (Mon, 16 Oct 2023) EndedAt: 2023-10-16 07:11:45 -0400 (Mon, 16 Oct 2023) EllapsedTime: 170.3 seconds RetCode: 0 Status: OK PackageFile: IRanges_2.34.1.tar.gz PackageFileSize: 469.8 KiB