Package: GSEAmining Version: 1.10.0 Command: rm -rf GSEAmining.buildbin-libdir && mkdir GSEAmining.buildbin-libdir && /Users/biocbuild/BBS/utils/build-universal.sh GSEAmining_1.10.0.tar.gz /Library/Frameworks/R.framework/Resources/bin/R GSEAmining.buildbin-libdir StartedAt: 2023-10-19 13:53:26 -0400 (Thu, 19 Oct 2023) EndedAt: 2023-10-19 13:53:47 -0400 (Thu, 19 Oct 2023) EllapsedTime: 21.4 seconds RetCode: 0 Status: OK PackageFile: GSEAmining_1.10.0.tgz PackageFileSize: 1.474 MiB