Package: GEOquery Version: 2.68.0 Command: /Library/Frameworks/R.framework/Resources/bin/R CMD build --keep-empty-dirs --no-resave-data GEOquery StartedAt: 2023-10-16 04:19:07 -0400 (Mon, 16 Oct 2023) EndedAt: 2023-10-16 04:20:11 -0400 (Mon, 16 Oct 2023) EllapsedTime: 64.2 seconds RetCode: 0 Status: OK PackageFile: GEOquery_2.68.0.tar.gz PackageFileSize: 13.06 MiB