Package: CGHnormaliter Version: 1.54.0 Command: /Library/Frameworks/R.framework/Resources/bin/R CMD build --keep-empty-dirs --no-resave-data CGHnormaliter StartedAt: 2023-10-15 23:06:38 -0400 (Sun, 15 Oct 2023) EndedAt: 2023-10-15 23:07:46 -0400 (Sun, 15 Oct 2023) EllapsedTime: 68.5 seconds RetCode: 0 Status: OK PackageFile: CGHnormaliter_1.54.0.tar.gz PackageFileSize: 1.243 MiB