Package: BridgeDbR Version: 2.10.2 Command: /Library/Frameworks/R.framework/Resources/bin/R CMD INSTALL BridgeDbR StartedAt: 2023-10-15 15:02:54 -0400 (Sun, 15 Oct 2023) EndedAt: 2023-10-15 15:03:01 -0400 (Sun, 15 Oct 2023) EllapsedTime: 6.7 seconds RetCode: 0 Status: OK