git_url: https://git.bioconductor.org/packages/BAGS git_branch: RELEASE_3_17 git_last_commit: 2d51cfc git_last_commit_date: 2023-04-25 10:22:09 -0400 (Tue, 25 Apr 2023) Package: BAGS Version: 2.40.0 Maintainer: Alejandro Quiroz-Zarate MaintainerEmail: aquiroz at jimmy.harvard.edu