Package: AnVILPublish Version: 1.10.0 Command: /Library/Frameworks/R.framework/Resources/bin/R CMD INSTALL AnVILPublish StartedAt: 2023-10-15 19:02:58 -0400 (Sun, 15 Oct 2023) EndedAt: 2023-10-15 19:03:08 -0400 (Sun, 15 Oct 2023) EllapsedTime: 10.1 seconds RetCode: 0 Status: OK