Package: AlphaBeta Version: 1.14.0 Command: /Library/Frameworks/R.framework/Resources/bin/R CMD INSTALL AlphaBeta StartedAt: 2023-10-15 17:59:08 -0400 (Sun, 15 Oct 2023) EndedAt: 2023-10-15 17:59:32 -0400 (Sun, 15 Oct 2023) EllapsedTime: 24.4 seconds RetCode: 0 Status: OK