git_url: https://git.bioconductor.org/packages/ASSIGN git_branch: RELEASE_3_17 git_last_commit: 5e923d6 git_last_commit_date: 2023-04-25 10:31:13 -0400 (Tue, 25 Apr 2023) Package: ASSIGN Version: 1.36.0 Maintainer: Ying Shen , W. Evan Johnson MaintainerEmail: wej at bu.edu