Package: AMOUNTAIN Version: 1.26.0 Command: rm -rf AMOUNTAIN.buildbin-libdir && mkdir AMOUNTAIN.buildbin-libdir && /Users/biocbuild/BBS/utils/build-universal.sh AMOUNTAIN_1.26.0.tar.gz /Library/Frameworks/R.framework/Resources/bin/R AMOUNTAIN.buildbin-libdir StartedAt: 2023-10-19 11:11:18 -0400 (Thu, 19 Oct 2023) EndedAt: 2023-10-19 11:11:25 -0400 (Thu, 19 Oct 2023) EllapsedTime: 7.6 seconds RetCode: 0 Status: OK PackageFile: AMOUNTAIN_1.26.0.tgz PackageFileSize: 1.631 MiB