Package: yeastExpData Version: 0.44.0 Command: /home/biocbuild/bbs-3.16-bioc/R/bin/R CMD INSTALL yeastExpData StartedAt: 2023-04-11 10:01:48 -0400 (Tue, 11 Apr 2023) EndedAt: 2023-04-11 10:01:52 -0400 (Tue, 11 Apr 2023) EllapsedTime: 3.6 seconds RetCode: 0 Status: OK