git_url: https://git.bioconductor.org/packages/spatialDmelxsim git_branch: RELEASE_3_16 git_last_commit: 054d938 git_last_commit_date: 2022-11-01 11:26:58 -0400 (Tue, 01 Nov 2022) Package: spatialDmelxsim Version: 1.4.0 Maintainer: Michael Love MaintainerEmail: michaelisaiahlove at gmail.com