Package: scanMiRData Version: 1.4.0 Command: /home/biocbuild/bbs-3.16-bioc/R/bin/R CMD INSTALL scanMiRData StartedAt: 2023-04-11 10:12:38 -0400 (Tue, 11 Apr 2023) EndedAt: 2023-04-11 10:12:59 -0400 (Tue, 11 Apr 2023) EllapsedTime: 20.7 seconds RetCode: 0 Status: OK