Package: fission Version: 1.18.0 Command: /home/biocbuild/bbs-3.16-bioc/R/bin/R CMD build --keep-empty-dirs --no-resave-data fission StartedAt: 2023-04-11 10:33:43 -0400 (Tue, 11 Apr 2023) EndedAt: 2023-04-11 10:33:58 -0400 (Tue, 11 Apr 2023) EllapsedTime: 14.7 seconds RetCode: 0 Status: OK PackageFile: fission_1.18.0.tar.gz PackageFileSize: 426.6 KiB