git_url: https://git.bioconductor.org/packages/TENxBUSData git_branch: RELEASE_3_16 git_last_commit: 538677e git_last_commit_date: 2022-11-01 11:22:17 -0400 (Tue, 01 Nov 2022) Package: TENxBUSData Version: 1.12.0 Maintainer: Lambda Moses MaintainerEmail: dlu2 at caltech.edu