Package: MIGSAdata Version: 1.22.0 Command: /home/biocbuild/bbs-3.16-bioc/R/bin/R CMD build --keep-empty-dirs --no-resave-data MIGSAdata StartedAt: 2023-04-11 10:44:58 -0400 (Tue, 11 Apr 2023) EndedAt: 2023-04-11 10:45:11 -0400 (Tue, 11 Apr 2023) EllapsedTime: 13.6 seconds RetCode: 0 Status: OK PackageFile: MIGSAdata_1.22.0.tar.gz PackageFileSize: 80.42 MiB