Package: BeadArrayUseCases Version: 1.36.0 Command: /home/biocbuild/bbs-3.16-bioc/R/bin/R CMD INSTALL BeadArrayUseCases StartedAt: 2023-04-11 10:12:34 -0400 (Tue, 11 Apr 2023) EndedAt: 2023-04-11 10:12:49 -0400 (Tue, 11 Apr 2023) EllapsedTime: 15.3 seconds RetCode: 0 Status: OK