git_url: https://git.bioconductor.org/packages/BeadArrayUseCases git_branch: RELEASE_3_16 git_last_commit: 789d11a git_last_commit_date: 2022-11-01 10:47:58 -0400 (Tue, 01 Nov 2022) Package: BeadArrayUseCases Version: 1.36.0 Maintainer: Mike Smith MaintainerEmail: grimbough at gmail.com