git_url: https://git.bioconductor.org/packages/OSCA.advanced git_branch: RELEASE_3_16 git_last_commit: ec308a7 git_last_commit_date: 2023-02-15 00:53:27 -0400 (Wed, 15 Feb 2023) Package: OSCA.advanced Version: 1.6.2 Maintainer: Ludwig Geistlinger MaintainerEmail: ludwig_geistlinger at hms.harvard.edu