Package: trena Version: 1.20.0 Command: /Library/Frameworks/R.framework/Resources/bin/R CMD build --keep-empty-dirs --no-resave-data trena StartedAt: 2023-04-18 11:44:18 -0400 (Tue, 18 Apr 2023) EndedAt: 2023-04-18 11:46:07 -0400 (Tue, 18 Apr 2023) EllapsedTime: 109.6 seconds RetCode: 0 Status: OK PackageFile: trena_1.20.0.tar.gz PackageFileSize: 6.786 MiB