Package: survcomp Version: 1.48.0 Command: rm -rf survcomp.buildbin-libdir && mkdir survcomp.buildbin-libdir && /Users/biocbuild/BBS/utils/build-universal.sh survcomp_1.48.0.tar.gz /Library/Frameworks/R.framework/Resources/bin/R survcomp.buildbin-libdir StartedAt: 2023-04-18 20:00:00 -0400 (Tue, 18 Apr 2023) EndedAt: 2023-04-18 20:00:31 -0400 (Tue, 18 Apr 2023) EllapsedTime: 31.4 seconds RetCode: 0 Status: OK PackageFile: survcomp_1.48.0.tgz PackageFileSize: 822.8 KiB