Back to Mac ARM64 build report for BioC 3.16 |
|
This page was generated on 2023-04-19 11:01:52 -0400 (Wed, 19 Apr 2023).
Hostname | OS | Arch (*) | R version | Installed pkgs |
---|---|---|---|---|
kjohnson | macOS 13.0 Ventura | arm64 | 4.2.2 (2022-10-31) -- "Innocent and Trusting" | 4256 |
Click on any hostname to see more info about the system (e.g. compilers) (*) as reported by 'uname -p', except on Windows and Mac OS X |
To the developers/maintainers of the scuttle package: Make sure to use the following settings in order to reproduce any error or warning you see on this page. |
Package 1828/2183 | Hostname | OS / Arch | INSTALL | BUILD | BUILD BIN | ||||||||
scuttle 1.8.4 (landing page) Aaron Lun
| kjohnson | macOS 13.0 Ventura / arm64 | OK | OK | OK | ![]() | |||||||
QUICK STATS | OS / Arch | INSTALL | BUILD | BUILD BIN | |||||||||||||
kjohnson | macOS 13.0 Ventura / arm64 |
|
|
| |||||||||||||
Package 1/15 | Hostname | OS / Arch | INSTALL | BUILD | BUILD BIN | ||||||||||||
BASiCS 2.10.5 (landing page) Catalina Vallejos
| kjohnson | macOS 13.0 Ventura / arm64 | OK | OK | OK | ![]() | |||||||||||
Package 2/15 | Hostname | OS / Arch | INSTALL | BUILD | BUILD BIN | ||||||||||||
BASiCStan 1.0.0 (landing page) Alan O'Callaghan
| kjohnson | macOS 13.0 Ventura / arm64 | OK | OK | OK | ![]() | |||||||||||
Package 3/15 | Hostname | OS / Arch | INSTALL | BUILD | BUILD BIN | ||||||||||||
batchelor 1.14.1 (landing page) Aaron Lun
| kjohnson | macOS 13.0 Ventura / arm64 | OK | OK | OK | ![]() | |||||||||||
Package 4/15 | Hostname | OS / Arch | INSTALL | BUILD | BUILD BIN | ||||||||||||
DropletUtils 1.18.1 (landing page) Jonathan Griffiths
| kjohnson | macOS 13.0 Ventura / arm64 | OK | OK | OK | ![]() | |||||||||||
Package 5/15 | Hostname | OS / Arch | INSTALL | BUILD | BUILD BIN | ||||||||||||
FLAMES 1.4.3 (landing page) Oliver Voogd
| kjohnson | macOS 13.0 Ventura / arm64 | OK | OK | OK | ![]() | |||||||||||
Package 6/15 | Hostname | OS / Arch | INSTALL | BUILD | BUILD BIN | ||||||||||||
imcRtools 1.4.2 (landing page) Nils Eling
| kjohnson | macOS 13.0 Ventura / arm64 | OK | OK | OK | ![]() | |||||||||||
Package 7/15 | Hostname | OS / Arch | INSTALL | BUILD | BUILD BIN | ||||||||||||
mia 1.6.0 (landing page) Tuomas Borman
| kjohnson | macOS 13.0 Ventura / arm64 | OK | OK | OK | ![]() | |||||||||||
Package 8/15 | Hostname | OS / Arch | INSTALL | BUILD | BUILD BIN | ||||||||||||
mumosa 1.6.0 (landing page) Aaron Lun
| kjohnson | macOS 13.0 Ventura / arm64 | OK | OK | OK | ![]() | |||||||||||
Package 9/15 | Hostname | OS / Arch | INSTALL | BUILD | BUILD BIN | ||||||||||||
muscat 1.12.1 (landing page) Helena L. Crowell
| kjohnson | macOS 13.0 Ventura / arm64 | OK | ERROR | skipped | ||||||||||||
Package 10/15 | Hostname | OS / Arch | INSTALL | BUILD | BUILD BIN | ||||||||||||
scater 1.26.1 (landing page) Alan O'Callaghan
| kjohnson | macOS 13.0 Ventura / arm64 | OK | OK | OK | ![]() | |||||||||||
Package 11/15 | Hostname | OS / Arch | INSTALL | BUILD | BUILD BIN | ||||||||||||
scDblFinder 1.12.0 (landing page) Pierre-Luc Germain
| kjohnson | macOS 13.0 Ventura / arm64 | OK | OK | OK | ![]() | |||||||||||
Package 12/15 | Hostname | OS / Arch | INSTALL | BUILD | BUILD BIN | ||||||||||||
scran 1.26.2 (landing page) Aaron Lun
| kjohnson | macOS 13.0 Ventura / arm64 | OK | OK | OK | ![]() | |||||||||||
Package 13/15 | Hostname | OS / Arch | INSTALL | BUILD | BUILD BIN | ||||||||||||
singleCellTK 2.8.0 (landing page) Yichen Wang
| kjohnson | macOS 13.0 Ventura / arm64 | OK | OK | OK | ![]() | |||||||||||
Package 14/15 | Hostname | OS / Arch | INSTALL | BUILD | BUILD BIN | ||||||||||||
spatialHeatmap 2.4.0 (landing page) Jianhai Zhang
| kjohnson | macOS 13.0 Ventura / arm64 | OK | OK | OK | ![]() | |||||||||||
Package 15/15 | Hostname | OS / Arch | INSTALL | BUILD | BUILD BIN | ||||||||||||
velociraptor 1.8.0 (landing page) Kevin Rue-Albrecht
| kjohnson | macOS 13.0 Ventura / arm64 | OK | ERROR | skipped | ||||||||||||