Package: scPCA Version: 1.12.0 Command: /Library/Frameworks/R.framework/Resources/bin/R CMD build --keep-empty-dirs --no-resave-data scPCA StartedAt: 2023-04-18 06:03:38 -0400 (Tue, 18 Apr 2023) EndedAt: 2023-04-18 06:10:03 -0400 (Tue, 18 Apr 2023) EllapsedTime: 385.4 seconds RetCode: 0 Status: OK PackageFile: scPCA_1.12.0.tar.gz PackageFileSize: 1.757 MiB