Package: profileplyr Version: 1.14.1 Command: /Library/Frameworks/R.framework/Resources/bin/R CMD build --keep-empty-dirs --no-resave-data profileplyr StartedAt: 2023-04-17 22:36:31 -0400 (Mon, 17 Apr 2023) EndedAt: 2023-04-17 22:39:24 -0400 (Mon, 17 Apr 2023) EllapsedTime: 173.5 seconds RetCode: 0 Status: OK PackageFile: profileplyr_1.14.1.tar.gz PackageFileSize: 2.409 MiB