Package: profileplyr Version: 1.14.1 Command: rm -rf profileplyr.buildbin-libdir && mkdir profileplyr.buildbin-libdir && /Users/biocbuild/BBS/utils/build-universal.sh profileplyr_1.14.1.tar.gz /Library/Frameworks/R.framework/Resources/bin/R profileplyr.buildbin-libdir StartedAt: 2023-04-18 18:22:52 -0400 (Tue, 18 Apr 2023) EndedAt: 2023-04-18 18:25:06 -0400 (Tue, 18 Apr 2023) EllapsedTime: 134.0 seconds RetCode: 0 Status: OK PackageFile: profileplyr_1.14.1.tgz PackageFileSize: 2.481 MiB