Package: prebs Version: 1.38.0 Command: /Library/Frameworks/R.framework/Resources/bin/R CMD build --keep-empty-dirs --no-resave-data prebs StartedAt: 2023-04-17 22:19:55 -0400 (Mon, 17 Apr 2023) EndedAt: 2023-04-17 22:22:38 -0400 (Mon, 17 Apr 2023) EllapsedTime: 163.5 seconds RetCode: 0 Status: OK PackageFile: prebs_1.38.0.tar.gz PackageFileSize: 280.7 KiB