Package: mzID Version: 1.36.0 Command: /Library/Frameworks/R.framework/Resources/bin/R CMD build --keep-empty-dirs --no-resave-data mzID StartedAt: 2023-04-17 18:16:02 -0400 (Mon, 17 Apr 2023) EndedAt: 2023-04-17 18:16:16 -0400 (Mon, 17 Apr 2023) EllapsedTime: 14.1 seconds RetCode: 0 Status: OK PackageFile: mzID_1.36.0.tar.gz PackageFileSize: 582.1 KiB