Package: infinityFlow Version: 1.8.0 Command: /Library/Frameworks/R.framework/Resources/bin/R CMD build --keep-empty-dirs --no-resave-data infinityFlow StartedAt: 2023-04-17 11:15:36 -0400 (Mon, 17 Apr 2023) EndedAt: 2023-04-17 11:23:04 -0400 (Mon, 17 Apr 2023) EllapsedTime: 448.4 seconds RetCode: 0 Status: OK PackageFile: infinityFlow_1.8.0.tar.gz PackageFileSize: 1.709 MiB