Package: iBBiG Version: 1.42.0 Command: /Library/Frameworks/R.framework/Resources/bin/R CMD INSTALL iBBiG StartedAt: 2023-04-16 15:03:58 -0400 (Sun, 16 Apr 2023) EndedAt: 2023-04-16 15:04:11 -0400 (Sun, 16 Apr 2023) EllapsedTime: 12.3 seconds RetCode: 0 Status: OK