Package: h5vc Version: 2.32.0 Command: /Library/Frameworks/R.framework/Resources/bin/R CMD build --keep-empty-dirs --no-resave-data h5vc StartedAt: 2023-04-17 09:56:02 -0400 (Mon, 17 Apr 2023) EndedAt: 2023-04-17 10:00:35 -0400 (Mon, 17 Apr 2023) EllapsedTime: 273.1 seconds RetCode: 0 Status: OK PackageFile: h5vc_2.32.0.tar.gz PackageFileSize: 1.394 MiB