Package: gep2pep Version: 1.18.0 Command: /Library/Frameworks/R.framework/Resources/bin/R CMD INSTALL gep2pep StartedAt: 2023-04-16 17:59:22 -0400 (Sun, 16 Apr 2023) EndedAt: 2023-04-16 17:59:57 -0400 (Sun, 16 Apr 2023) EllapsedTime: 34.2 seconds RetCode: 0 Status: OK