Back to Mac ARM64 build report for BioC 3.16 |
|
This page was generated on 2023-04-19 11:01:48 -0400 (Wed, 19 Apr 2023).
Hostname | OS | Arch (*) | R version | Installed pkgs |
---|---|---|---|---|
kjohnson | macOS 13.0 Ventura | arm64 | 4.2.2 (2022-10-31) -- "Innocent and Trusting" | 4256 |
Click on any hostname to see more info about the system (e.g. compilers) (*) as reported by 'uname -p', except on Windows and Mac OS X |
To the developers/maintainers of the flowCore package: Make sure to use the following settings in order to reproduce any error or warning you see on this page. |
Package 691/2183 | Hostname | OS / Arch | INSTALL | BUILD | BUILD BIN | ||||||||
flowCore 2.10.0 (landing page) Mike Jiang
| kjohnson | macOS 13.0 Ventura / arm64 | OK | OK | OK | ![]() | |||||||
QUICK STATS | OS / Arch | INSTALL | BUILD | BUILD BIN | |||||||||||||
kjohnson | macOS 13.0 Ventura / arm64 |
|
|
| |||||||||||||
Package 1/46 | Hostname | OS / Arch | INSTALL | BUILD | BUILD BIN | ||||||||||||
CATALYST 1.22.0 (landing page) Helena L. Crowell
| kjohnson | macOS 13.0 Ventura / arm64 | OK | OK | OK | ![]() | |||||||||||
Package 2/46 | Hostname | OS / Arch | INSTALL | BUILD | BUILD BIN | ||||||||||||
cmapR 1.10.0 (landing page) Ted Natoli
| kjohnson | macOS 13.0 Ventura / arm64 | OK | OK | OK | ![]() | |||||||||||
Package 3/46 | Hostname | OS / Arch | INSTALL | BUILD | BUILD BIN | ||||||||||||
CONFESS 1.26.0 (landing page) Diana LOW
| kjohnson | macOS 13.0 Ventura / arm64 | OK | OK | OK | ![]() | |||||||||||
Package 4/46 | Hostname | OS / Arch | INSTALL | BUILD | BUILD BIN | ||||||||||||
cyanoFilter 1.6.0 (landing page) Oluwafemi Olusoji
| kjohnson | macOS 13.0 Ventura / arm64 | OK | OK | OK | ![]() | |||||||||||
Package 5/46 | Hostname | OS / Arch | INSTALL | BUILD | BUILD BIN | ||||||||||||
cydar 1.22.0 (landing page) Aaron Lun
| kjohnson | macOS 13.0 Ventura / arm64 | OK | OK | OK | ![]() | |||||||||||
Package 6/46 | Hostname | OS / Arch | INSTALL | BUILD | BUILD BIN | ||||||||||||
CytoDx 1.18.0 (landing page) Zicheng Hu
| kjohnson | macOS 13.0 Ventura / arm64 | OK | OK | OK | ![]() | |||||||||||
Package 7/46 | Hostname | OS / Arch | INSTALL | BUILD | BUILD BIN | ||||||||||||
cytoMEM 1.2.0 (landing page) Jonathan Irish
| kjohnson | macOS 13.0 Ventura / arm64 | OK | OK | OK | ![]() | |||||||||||
Package 8/46 | Hostname | OS / Arch | INSTALL | BUILD | BUILD BIN | ||||||||||||
CytoML 2.10.0 (landing page) Mike Jiang
| kjohnson | macOS 13.0 Ventura / arm64 | OK | OK | OK | ![]() | |||||||||||
Package 9/46 | Hostname | OS / Arch | INSTALL | BUILD | BUILD BIN | ||||||||||||
Yuting Dai
| kjohnson | macOS 13.0 Ventura / arm64 | OK | OK | OK | ![]() | |||||||||||
Package 10/46 | Hostname | OS / Arch | INSTALL | BUILD | BUILD BIN | ||||||||||||
ddPCRclust 1.18.0 (landing page) Benedikt G. Brink
| kjohnson | macOS 13.0 Ventura / arm64 | OK | OK | OK | ![]() | |||||||||||
Package 11/46 | Hostname | OS / Arch | INSTALL | BUILD | BUILD BIN | ||||||||||||
diffcyt 1.18.0 (landing page) Lukas M. Weber
| kjohnson | macOS 13.0 Ventura / arm64 | OK | OK | OK | ![]() | |||||||||||
Package 12/46 | Hostname | OS / Arch | INSTALL | BUILD | BUILD BIN | ||||||||||||
flowAI 1.28.0 (landing page) Gianni Monaco
| kjohnson | macOS 13.0 Ventura / arm64 | OK | OK | OK | ![]() | |||||||||||
Package 13/46 | Hostname | OS / Arch | INSTALL | BUILD | BUILD BIN | ||||||||||||
flowBeads 1.36.0 (landing page) Nikolas Pontikos
| kjohnson | macOS 13.0 Ventura / arm64 | OK | OK | OK | ![]() | |||||||||||
Package 14/46 | Hostname | OS / Arch | INSTALL | BUILD | BUILD BIN | ||||||||||||
flowBin 1.34.0 (landing page) Kieran O'Neill
| kjohnson | macOS 13.0 Ventura / arm64 | OK | OK | OK | ![]() | |||||||||||
Package 15/46 | Hostname | OS / Arch | INSTALL | BUILD | BUILD BIN | ||||||||||||
flowCHIC 1.32.0 (landing page) Author: Joachim Schumann
| kjohnson | macOS 13.0 Ventura / arm64 | OK | OK | OK | ![]() | |||||||||||
Package 16/46 | Hostname | OS / Arch | INSTALL | BUILD | BUILD BIN | ||||||||||||
flowClean 1.36.0 (landing page) Kipper Fletez-Brant
| kjohnson | macOS 13.0 Ventura / arm64 | OK | OK | OK | ![]() | |||||||||||
Package 17/46 | Hostname | OS / Arch | INSTALL | BUILD | BUILD BIN | ||||||||||||
flowClust 3.36.1 (landing page) Greg Finak
| kjohnson | macOS 13.0 Ventura / arm64 | OK | OK | OK | ![]() | |||||||||||
Package 18/46 | Hostname | OS / Arch | INSTALL | BUILD | BUILD BIN | ||||||||||||
flowCut 1.8.0 (landing page) Justin Meskas
| kjohnson | macOS 13.0 Ventura / arm64 | OK | OK | OK | ![]() | |||||||||||
Package 19/46 | Hostname | OS / Arch | INSTALL | BUILD | BUILD BIN | ||||||||||||
flowDensity 1.32.0 (landing page) Mehrnoush Malek
| kjohnson | macOS 13.0 Ventura / arm64 | OK | OK | OK | ![]() | |||||||||||
Package 20/46 | Hostname | OS / Arch | INSTALL | BUILD | BUILD BIN | ||||||||||||
flowFP 1.56.3 (landing page) Herb Holyst
| kjohnson | macOS 13.0 Ventura / arm64 | OK | OK | OK | ![]() | |||||||||||
Package 21/46 | Hostname | OS / Arch | INSTALL | BUILD | BUILD BIN | ||||||||||||
flowMatch 1.34.0 (landing page) Ariful Azad
| kjohnson | macOS 13.0 Ventura / arm64 | OK | OK | OK | ![]() | |||||||||||
Package 22/46 | Hostname | OS / Arch | INSTALL | BUILD | BUILD BIN | ||||||||||||
flowMeans 1.58.0 (landing page) Nima Aghaeepour
| kjohnson | macOS 13.0 Ventura / arm64 | OK | OK | OK | ![]() | |||||||||||
Package 23/46 | Hostname | OS / Arch | INSTALL | BUILD | BUILD BIN | ||||||||||||
flowMerge 2.46.0 (landing page) Greg Finak
| kjohnson | macOS 13.0 Ventura / arm64 | OK | OK | OK | ![]() | |||||||||||
Package 24/46 | Hostname | OS / Arch | INSTALL | BUILD | BUILD BIN | ||||||||||||
flowPloidy 1.24.0 (landing page) Tyler Smith
| kjohnson | macOS 13.0 Ventura / arm64 | OK | OK | OK | ![]() | |||||||||||
Package 25/46 | Hostname | OS / Arch | INSTALL | BUILD | BUILD BIN | ||||||||||||
FlowSOM 2.6.0 (landing page) Sofie Van Gassen
| kjohnson | macOS 13.0 Ventura / arm64 | OK | OK | OK | ![]() | |||||||||||
Package 26/46 | Hostname | OS / Arch | INSTALL | BUILD | BUILD BIN | ||||||||||||
flowSpecs 1.12.0 (landing page) Jakob Theorell
| kjohnson | macOS 13.0 Ventura / arm64 | OK | OK | OK | ![]() | |||||||||||
Package 27/46 | Hostname | OS / Arch | INSTALL | BUILD | BUILD BIN | ||||||||||||
flowStats 4.10.0 (landing page) Greg Finak
| kjohnson | macOS 13.0 Ventura / arm64 | OK | OK | OK | ![]() | |||||||||||
Package 28/46 | Hostname | OS / Arch | INSTALL | BUILD | BUILD BIN | ||||||||||||
flowTime 1.22.2 (landing page) R. Clay Wright
| kjohnson | macOS 13.0 Ventura / arm64 | OK | OK | OK | ![]() | |||||||||||
Package 29/46 | Hostname | OS / Arch | INSTALL | BUILD | BUILD BIN | ||||||||||||
flowTrans 1.50.0 (landing page) Greg Finak
| kjohnson | macOS 13.0 Ventura / arm64 | OK | OK | OK | ![]() | |||||||||||
Package 30/46 | Hostname | OS / Arch | INSTALL | BUILD | BUILD BIN | ||||||||||||
Josef Spidlen
| kjohnson | macOS 13.0 Ventura / arm64 | OK | ERROR | skipped | ||||||||||||
Package 31/46 | Hostname | OS / Arch | INSTALL | BUILD | BUILD BIN | ||||||||||||
flowViz 1.62.0 (landing page) Mike Jiang
| kjohnson | macOS 13.0 Ventura / arm64 | OK | OK | OK | ![]() | |||||||||||
Package 32/46 | Hostname | OS / Arch | INSTALL | BUILD | BUILD BIN | ||||||||||||
flowVS 1.30.0 (landing page) Ariful Azad
| kjohnson | macOS 13.0 Ventura / arm64 | OK | OK | OK | ![]() | |||||||||||
Package 33/46 | Hostname | OS / Arch | INSTALL | BUILD | BUILD BIN | ||||||||||||
flowWorkspace 4.10.1 (landing page) Greg Finak
| kjohnson | macOS 13.0 Ventura / arm64 | OK | OK | OK | ![]() | |||||||||||
Package 34/46 | Hostname | OS / Arch | INSTALL | BUILD | BUILD BIN | ||||||||||||
GateFinder 1.18.0 (landing page) Nima Aghaeepour
| kjohnson | macOS 13.0 Ventura / arm64 | OK | OK | OK | ![]() | |||||||||||
Package 35/46 | Hostname | OS / Arch | INSTALL | BUILD | BUILD BIN | ||||||||||||
ggcyto 1.26.4 (landing page) Mike Jiang
| kjohnson | macOS 13.0 Ventura / arm64 | OK | OK | OK | ![]() | |||||||||||
Package 36/46 | Hostname | OS / Arch | INSTALL | BUILD | BUILD BIN | ||||||||||||
ImmuneSpaceR 1.26.1 (landing page) ImmuneSpace Package Maintainer
| kjohnson | macOS 13.0 Ventura / arm64 | OK | OK | OK | ![]() | |||||||||||
Package 37/46 | Hostname | OS / Arch | INSTALL | BUILD | BUILD BIN | ||||||||||||
immunoClust 1.30.0 (landing page) Till Soerensen
| kjohnson | macOS 13.0 Ventura / arm64 | OK | OK | OK | ![]() | |||||||||||
Package 38/46 | Hostname | OS / Arch | INSTALL | BUILD | BUILD BIN | ||||||||||||
infinityFlow 1.8.0 (landing page) Etienne Becht
| kjohnson | macOS 13.0 Ventura / arm64 | OK | OK | OK | ![]() | |||||||||||
Package 39/46 | Hostname | OS / Arch | INSTALL | BUILD | BUILD BIN | ||||||||||||
MetaCyto 1.20.0 (landing page) Zicheng Hu
| kjohnson | macOS 13.0 Ventura / arm64 | OK | OK | OK | ![]() | |||||||||||
Package 40/46 | Hostname | OS / Arch | INSTALL | BUILD | BUILD BIN | ||||||||||||
ncdfFlow 2.44.0 (landing page) Mike Jiang
| kjohnson | macOS 13.0 Ventura / arm64 | OK | OK | OK | ![]() | |||||||||||
Package 41/46 | Hostname | OS / Arch | INSTALL | BUILD | BUILD BIN | ||||||||||||
oneSENSE 1.20.0 (landing page) Yong Kee Tan
| kjohnson | macOS 13.0 Ventura / arm64 | OK | OK | OK | ![]() | |||||||||||
Package 42/46 | Hostname | OS / Arch | INSTALL | BUILD | BUILD BIN | ||||||||||||
openCyto 2.10.1 (landing page) Mike Jiang
| kjohnson | macOS 13.0 Ventura / arm64 | OK | ERROR | skipped | ||||||||||||
Package 43/46 | Hostname | OS / Arch | INSTALL | BUILD | BUILD BIN | ||||||||||||
PeacoQC 1.8.0 (landing page) Annelies Emmaneel
| kjohnson | macOS 13.0 Ventura / arm64 | OK | OK | OK | ![]() | |||||||||||
Package 44/46 | Hostname | OS / Arch | INSTALL | BUILD | BUILD BIN | ||||||||||||
scDataviz 1.8.0 (landing page) Kevin Blighe
| kjohnson | macOS 13.0 Ventura / arm64 | OK | OK | OK | ![]() | |||||||||||
Package 45/46 | Hostname | OS / Arch | INSTALL | BUILD | BUILD BIN | ||||||||||||
scifer 1.0.0 (landing page) Rodrigo Arcoverde Cerveira
| kjohnson | macOS 13.0 Ventura / arm64 | OK | OK | OK | ![]() | |||||||||||
Package 46/46 | Hostname | OS / Arch | INSTALL | BUILD | BUILD BIN | ||||||||||||
Sconify 1.18.0 (landing page) Tyler J Burns
| kjohnson | macOS 13.0 Ventura / arm64 | OK | OK | OK | ![]() | |||||||||||