Package: covEB Version: 1.24.0 Command: /Library/Frameworks/R.framework/Resources/bin/R CMD build --keep-empty-dirs --no-resave-data covEB StartedAt: 2023-04-17 01:55:56 -0400 (Mon, 17 Apr 2023) EndedAt: 2023-04-17 01:56:19 -0400 (Mon, 17 Apr 2023) EllapsedTime: 22.7 seconds RetCode: 0 Status: OK PackageFile: covEB_1.24.0.tar.gz PackageFileSize: 114.6 KiB