Package: coGPS Version: 1.42.0 Command: /Library/Frameworks/R.framework/Resources/bin/R CMD build --keep-empty-dirs --no-resave-data coGPS StartedAt: 2023-04-17 01:05:25 -0400 (Mon, 17 Apr 2023) EndedAt: 2023-04-17 01:05:38 -0400 (Mon, 17 Apr 2023) EllapsedTime: 13.2 seconds RetCode: 0 Status: OK PackageFile: coGPS_1.42.0.tar.gz PackageFileSize: 1.762 MiB