Package: clustifyr Version: 1.10.0 Command: rm -rf clustifyr.buildbin-libdir && mkdir clustifyr.buildbin-libdir && /Users/biocbuild/BBS/utils/build-universal.sh clustifyr_1.10.0.tar.gz /Library/Frameworks/R.framework/Resources/bin/R clustifyr.buildbin-libdir StartedAt: 2023-04-18 14:36:16 -0400 (Tue, 18 Apr 2023) EndedAt: 2023-04-18 14:37:30 -0400 (Tue, 18 Apr 2023) EllapsedTime: 74.0 seconds RetCode: 0 Status: OK PackageFile: clustifyr_1.10.0.tgz PackageFileSize: 4.293 MiB