Package: chromswitch Version: 1.20.0 Command: /Library/Frameworks/R.framework/Resources/bin/R CMD INSTALL chromswitch StartedAt: 2023-04-16 16:18:56 -0400 (Sun, 16 Apr 2023) EndedAt: 2023-04-16 16:19:41 -0400 (Sun, 16 Apr 2023) EllapsedTime: 45.1 seconds RetCode: 0 Status: OK