Package: chromswitch Version: 1.20.0 Command: rm -rf chromswitch.buildbin-libdir && mkdir chromswitch.buildbin-libdir && /Users/biocbuild/BBS/utils/build-universal.sh chromswitch_1.20.0.tar.gz /Library/Frameworks/R.framework/Resources/bin/R chromswitch.buildbin-libdir StartedAt: 2023-04-18 14:29:50 -0400 (Tue, 18 Apr 2023) EndedAt: 2023-04-18 14:31:01 -0400 (Tue, 18 Apr 2023) EllapsedTime: 71.5 seconds RetCode: 0 Status: OK PackageFile: chromswitch_1.20.0.tgz PackageFileSize: 1.418 MiB