Package: chipenrich Version: 2.22.0 Command: rm -rf chipenrich.buildbin-libdir && mkdir chipenrich.buildbin-libdir && /Users/biocbuild/BBS/utils/build-universal.sh chipenrich_2.22.0.tar.gz /Library/Frameworks/R.framework/Resources/bin/R chipenrich.buildbin-libdir StartedAt: 2023-04-18 14:23:37 -0400 (Tue, 18 Apr 2023) EndedAt: 2023-04-18 14:25:26 -0400 (Tue, 18 Apr 2023) EllapsedTime: 108.8 seconds RetCode: 0 Status: OK PackageFile: chipenrich_2.22.0.tgz PackageFileSize: 842.7 KiB