Package: bioCancer Version: 1.26.04 Command: rm -rf bioCancer.buildbin-libdir && mkdir bioCancer.buildbin-libdir && /Users/biocbuild/BBS/utils/build-universal.sh bioCancer_1.26.04.tar.gz /Library/Frameworks/R.framework/Resources/bin/R bioCancer.buildbin-libdir StartedAt: 2023-04-18 13:55:16 -0400 (Tue, 18 Apr 2023) EndedAt: 2023-04-18 13:56:40 -0400 (Tue, 18 Apr 2023) EllapsedTime: 83.7 seconds RetCode: 0 Status: OK PackageFile: bioCancer_1.26.04.tgz PackageFileSize: 6.557 MiB