Package: bayNorm Version: 1.16.2 Command: /Library/Frameworks/R.framework/Resources/bin/R CMD INSTALL bayNorm StartedAt: 2023-04-16 15:09:03 -0400 (Sun, 16 Apr 2023) EndedAt: 2023-04-16 15:10:13 -0400 (Sun, 16 Apr 2023) EllapsedTime: 69.7 seconds RetCode: 0 Status: OK