Package: banocc Version: 1.22.0 Command: /Library/Frameworks/R.framework/Resources/bin/R CMD INSTALL banocc StartedAt: 2023-04-16 14:40:44 -0400 (Sun, 16 Apr 2023) EndedAt: 2023-04-16 14:40:59 -0400 (Sun, 16 Apr 2023) EllapsedTime: 14.5 seconds RetCode: 0 Status: OK